BEGIN:VCALENDAR
VERSION:2.0
PRODID:-//C.Ö.St.V Arcadia Wien//NONSGML kigkonsult.se iCalcreator 2.30.10/
 /
CALSCALE:GREGORIAN
METHOD:PUBLISH
UID:8f3f2327-be7f-403b-ad47-338da060a825
X-WR-CALNAME:iCagenda
X-WR-CALDESC:Event Management Extension for Joomla!
X-WR-RELCALID:3E26604A-50F4-4449-8B3E-E4F4932D05B5
X-WR-TIMEZONE:Europe/Vienna
BEGIN:VTIMEZONE
TZID:Europe/Vienna
BEGIN:STANDARD
TZNAME:CET
DTSTART:20251026T030000
TZOFFSETFROM:+0200
TZOFFSETTO:+0100
RDATE:20261025T030000
RDATE:20271031T030000
END:STANDARD
BEGIN:DAYLIGHT
TZNAME:CEST
DTSTART:20260329T020000
TZOFFSETFROM:+0100
TZOFFSETTO:+0200
RDATE:20270328T020000
END:DAYLIGHT
END:VTIMEZONE
BEGIN:VEVENT
UID:8b415821-38fc-4bc6-b513-e8571ed6fb9b
DTSTAMP:20260423T113237Z
CATEGORIES:Interne Veranstaltung
CLASS:PUBLIC
DESCRIPTION:
DTSTART:20260615T163000Z
DTEND:20260615T220000Z
GEO:00;0
LOCATION:Lichtenfelsgasse 1/sout. 1010 Wien
ORGANIZER:
SEQUENCE:1
SUMMARY:3. o. MC s.t. off.
TRANSP:OPAQUE
URL:https://www.arcadia-wien.at/veranstaltungen/3-o-mc-s-t-off
END:VEVENT
END:VCALENDAR
